BEGIN:VCALENDAR
VERSION:2.0
PRODID:-//Ultimate.fi - ECPv6.15.20//NONSGML v1.0//EN
CALSCALE:GREGORIAN
METHOD:PUBLISH
X-ORIGINAL-URL:https://ultimate.fi
X-WR-CALDESC:Tapahtumat Ultimate.fi
REFRESH-INTERVAL;VALUE=DURATION:PT1H
X-Robots-Tag:noindex
X-PUBLISHED-TTL:PT1H
BEGIN:VTIMEZONE
TZID:Europe/Helsinki
BEGIN:DAYLIGHT
TZOFFSETFROM:+0200
TZOFFSETTO:+0300
TZNAME:EEST
DTSTART:20250330T010000
END:DAYLIGHT
BEGIN:STANDARD
TZOFFSETFROM:+0300
TZOFFSETTO:+0200
TZNAME:EET
DTSTART:20251026T010000
END:STANDARD
BEGIN:DAYLIGHT
TZOFFSETFROM:+0200
TZOFFSETTO:+0300
TZNAME:EEST
DTSTART:20260329T010000
END:DAYLIGHT
BEGIN:STANDARD
TZOFFSETFROM:+0300
TZOFFSETTO:+0200
TZNAME:EET
DTSTART:20261025T010000
END:STANDARD
BEGIN:DAYLIGHT
TZOFFSETFROM:+0200
TZOFFSETTO:+0300
TZNAME:EEST
DTSTART:20270328T010000
END:DAYLIGHT
BEGIN:STANDARD
TZOFFSETFROM:+0300
TZOFFSETTO:+0200
TZNAME:EET
DTSTART:20271031T010000
END:STANDARD
END:VTIMEZONE
BEGIN:VEVENT
DTSTART;VALUE=DATE:20260103
DTEND;VALUE=DATE:20260104
DTSTAMP:20260424T143716
CREATED:20251212T174503Z
LAST-MODIFIED:20251212T174503Z
UID:21838-1767398400-1767484799@ultimate.fi
SUMMARY:Uuden vuoden hattuturnaus / New Year's hat tournament Jyväskylä
DESCRIPTION:More info coming soon on Jyväskylä Sleepwalkers’ Instagram (@sleepwalkersultimate).
URL:https://ultimate.fi/event/uuden-vuoden-hattuturnaus-new-years-hat-tournament-jyvaskyla/
CATEGORIES:Aikuiset harraste,Juniori harraste
ORGANIZER;CN="Jyv%C3%A4skyl%C3%A4 Sleepwalkers":MAILTO:hallitus@sleepwalkers.fi
END:VEVENT
END:VCALENDAR